BEGIN:VCALENDAR
VERSION:2.0
PRODID:-//wp-events-plugin.com//7.2.3.1//EN
TZID:Europe/Paris
X-WR-TIMEZONE:Europe/Paris
BEGIN:VEVENT
UID:128@jdssdj.apicea.dev
DTSTART;TZID=Europe/Paris:20260522T140000
DTEND;TZID=Europe/Paris:20260522T180000
DTSTAMP:20260110T134558Z
URL:https://jdssdj.apicea.dev/events/apres-midi-cartes-2026-01-10-2026-01-
 14-2026-01-17-2026-01-21-2026-01-24-2026-01-28-2026-01-31-2026-02-04-2026-
 02-07-2026-02-11-2026-02-14-2026-02-18-2026-02-21-2026-02-25-2026-02-28-20
 2-20-2026-05-23/
SUMMARY:Aprés-midi cartes
DESCRIPTION:
CATEGORIES:Cartes
LOCATION:Association des Amis de la Prairie d’Hellieule\, 1\, rue Jean Ma
 urice André\, saint dié des vosges\, 88100\, France
X-APPLE-STRUCTURED-LOCATION;VALUE=URI;X-ADDRESS=1\, rue Jean Maurice André
 \, saint dié des vosges\, 88100\, France;X-APPLE-RADIUS=100;X-TITLE=Assoc
 iation des Amis de la Prairie d’Hellieule:geo:0,0
END:VEVENT
BEGIN:VTIMEZONE
TZID:Europe/Paris
X-LIC-LOCATION:Europe/Paris
BEGIN:DAYLIGHT
DTSTART:20260329T030000
TZOFFSETFROM:+0100
TZOFFSETTO:+0200
TZNAME:CEST
END:DAYLIGHT
END:VTIMEZONE
END:VCALENDAR