BEGIN:VCALENDAR
VERSION:2.0
PRODID:-//wp-events-plugin.com//7.2.3.1//EN
TZID:Europe/Paris
X-WR-TIMEZONE:Europe/Paris
BEGIN:VEVENT
UID:88@jdssdj.apicea.dev
DTSTART;TZID=Europe/Paris:20260425T140000
DTEND;TZID=Europe/Paris:20260425T235900
DTSTAMP:20260110T123225Z
URL:https://jdssdj.apicea.dev/events/samedi-jeux-de-societe-2026-04-25/
SUMMARY:Samedi jeux de société
DESCRIPTION:Toute la journée\n\nsoirée pizza
CATEGORIES:Jeux de sociétés
LOCATION:Association des Amis de la Prairie d’Hellieule 1\, 1\, rue Jean 
 Maurice André ﻿\, SAINT-DIE DES VOSGES\, 88100 \, France
X-APPLE-STRUCTURED-LOCATION;VALUE=URI;X-ADDRESS=1\, rue Jean Maurice André
  ﻿\, SAINT-DIE DES VOSGES\, 88100 \, France;X-APPLE-RADIUS=100;X-TITLE=A
 ssociation des Amis de la Prairie d’Hellieule 1:geo:0,0
END:VEVENT
BEGIN:VTIMEZONE
TZID:Europe/Paris
X-LIC-LOCATION:Europe/Paris
BEGIN:DAYLIGHT
DTSTART:20260329T030000
TZOFFSETFROM:+0100
TZOFFSETTO:+0200
TZNAME:CEST
END:DAYLIGHT
END:VTIMEZONE
END:VCALENDAR